BEGIN:VCALENDAR
VERSION:2.0
PRODID:-//ペキンタウン - ECPv6.5.1.3//NONSGML v1.0//EN
CALSCALE:GREGORIAN
METHOD:PUBLISH
X-WR-CALNAME:ペキンタウン
X-ORIGINAL-URL:https://bjtown.net
X-WR-CALDESC:ペキンタウン のイベント
REFRESH-INTERVAL;VALUE=DURATION:PT1H
X-Robots-Tag:noindex
X-PUBLISHED-TTL:PT1H
BEGIN:VTIMEZONE
TZID:Asia/Shanghai
BEGIN:STANDARD
TZOFFSETFROM:+0800
TZOFFSETTO:+0800
TZNAME:CST
DTSTART:20160101T000000
END:STANDARD
END:VTIMEZONE
BEGIN:VEVENT
DTSTART;TZID=Asia/Shanghai:20180105T210000
DTEND;TZID=Asia/Shanghai:20180105T230000
DTSTAMP:20260419T213122
CREATED:20180102T050945Z
LAST-MODIFIED:20180102T060100Z
UID:3625-1515186000-1515193200@bjtown.net
SUMMARY:ブルース・ピアニスト有吉須美人ライブ
DESCRIPTION:Billy on the China-road 美国芝加哥蓝调大使Billy Branch首次中国巡演\n日本を代表するブルース・ピアニスト有吉須美人さん中国公演！\n世界に誇る日本を代表するブルース・ピアニスト、アリヨこと有吉須美人 （ありよし　すみと）さん。シカゴブルース界のレジェンド、ビリー・ブランチ（ Billy Branch　三度グラミーにノミネート）と、初の中国公演が北京を皮切りにスタートする！ \n \n▲有吉須美人&Billy Branch\n有吉さんは1983年に渡米、シカゴブルースの創建者——ジミー・ロジャース（Jimmy Rogers）のバンドにレギュラーメンバーとして加入、伝説級のブルースマンB．B．キングやアルバート・キング（Albert King）、ボー・ディドリー（Bo Diddly）バディ・ガイ（Buddy Guy）やオーティス・ラッシュ（Ortis Rush）など、私からするとCD上でしか存在しなかったような方々と実際に方を並んでプレイされている。 \n \n▲有吉須美人&Billy Branch（ブルース殿堂受賞）\n昨年は見事に『Chicago Blues Hall of Fame』に表彰され、歴史初の東洋人アーティストのブルース殿堂入りを果たしている。アメリカ・シカゴを拠点に、世界中のブルースファンを魅了するピアニストであり、ブルースの本場——シカゴでもトップミュージシャンの座を務めているアーティストです。 \n \n▲有吉須美人\n2000年から、有吉須美人さんはシカゴのレジェンドアーティスト——ビリー・ブランチ率いるサンズ・オブ・ブルースのメンバーとなり、2002年には同バンドのメンバーとして日本公演も行いました。 \n \n▲サンズ・オブ・ブルース\nサンズ・オブ・ブルースの他にも、幾つかのバンドを掛け持ち、年間200本ものライブをこなしていて、また、世界中の音楽フェスに招待され、10国以上のワールドツアーやもこなしています。今やシカゴになくてはならないピアニストとして大活躍をされているのです。 \n \n▲有吉須美人\n一部ミュージシャンの発言を引用させていただくと、\n「アリヨを皆が欲しがっているんだ！皆がだ！」――ビリー・ブランチ（Billy Branch）\n「シカゴには素晴らしい鍵盤奏者は少ない。アリヨだろ、ルーズベルト、それにアリヨ、ルーズベルト、アリヨ・・・」――カルロス・ジョンソン（Carlos Johnson）\n「チャック・ベリー（Chuck Berry）がアリヨを探していたのよ。でもビリーのピアニストだといってやったわ」――シャーリー・ディクソン（Shirley Dixon）\nこれだけでも、アリヨさんが如何にシカゴのブルースマンからの信頼が厚いかお分かり頂けるかと思います。これがアリヨ。まるでアリヨ。この音に手足がついて、時々メシを食う。それがアリヨ。ホントだよ。 ――甲本ヒロト（The Blue Hearts） \n \n▲有吉須美人 Chicago Blues Festival\nアリヨの愛称でシカゴのブルースマンたちが認めた初めての日本人ブルース・ピアニストであり、ブルース・ハープの筆頭ビリー・ブランチのグループ、ザ・サンズ・オブ・ブルースでの活動でも知られる有吉須美人。シカゴ・ブルース・ピアノの第一人者として、30回以上シカゴ・ブルース・フェスティバルに参加している、いまやアメリカだけでなくヨーロッパでも名を馳せるまでになった彼の待望の中国公演がいよいよスタート！ \n \n▲有吉須美人  \n『詳細なスケジュール』 \n 1月5日（金曜日）：北京乐空间 \n入場時間：20:00～　スタート21:00～ \n1月6日（土曜日）：天津卓陽芸術センター　入場時間：20:00～　スタート21:00～ \n1月11日（木曜日）：上海JZ Club　入場時間：20:00～　スタート21:00～ \n1月12日（金曜日）：上海Chair Club 入場時間：20:00～　スタート21:00～ \n1月13日（土曜日）：杭州酒球会　入場時間：20:00～　スタート21:00～ \n料金：前売り180元、現場220元。 \n \n▲Billy Branch——Legendary Blues Artist \nバンド編成＆バンドメンバー \nビリー・ブランチ（Billy Branch）：ボーカル＆ブルースハープ \n有吉須美人（Sumito Ariyo Ariyoshi)：ピアノ＆ボーカル \n魏威（Wei Wei）：ギター（中国代表するブルースギターリスト） \n王铮（Wang Zheng）：ベース（中国代表するブルースベーシスト） \n吴志军（Wu Zhijun）：ドラム（中国有数なジャズドラム名手） \n前座バンド：モジョハンドブルースバンド（中国トップブルースバンド） \n \n写真なかのバーコードを長押しすると前売りのページへ
URL:https://bjtown.net/event/%e3%83%96%e3%83%ab%e3%83%bc%e3%82%b9%e3%83%bb%e3%83%94%e3%82%a2%e3%83%8b%e3%82%b9%e3%83%88%e6%9c%89%e5%90%89%e9%a0%88%e7%be%8e%e4%ba%ba/
LOCATION:乐空间 YUE SPACE\,  北新桥板桥南巷7号人美大厦左一层(糯言酒馆)
CATEGORIES:パフォーマンス,ライブ
END:VEVENT
BEGIN:VEVENT
DTSTART;TZID=Asia/Shanghai:20171117T190000
DTEND;TZID=Asia/Shanghai:20171117T200000
DTSTAMP:20260419T213122
CREATED:20171101T133149Z
LAST-MODIFIED:20171101T133149Z
UID:3371-1510945200-1510948800@bjtown.net
SUMMARY:ぜんじろうスタンダップコメディーショーVol\,2
DESCRIPTION:
URL:https://bjtown.net/event/%e3%81%9c%e3%82%93%e3%81%98%e3%82%8d%e3%81%86%e3%82%b9%e3%82%bf%e3%83%b3%e3%83%80%e3%83%83%e3%83%97%e3%82%b3%e3%83%a1%e3%83%87%e3%82%a3%e3%83%bc%e3%82%b7%e3%83%a7%e3%83%bcvol2/
LOCATION:BAR BACCO
CATEGORIES:パフォーマンス
ORGANIZER;CN="%E4%B8%BB%E5%82%AC%E8%80%85 %E3%81%AB%E5%90%8D%E5%89%8D%E3%81%8C%E4%BB%98%E3%81%91%E3%82%89%E3%82%8C%E3%81%A6%E3%81%84%E3%81%BE%E3%81%9B%E3%82%93":MAILTO:jinteng1119@hotmail.com
END:VEVENT
BEGIN:VEVENT
DTSTART;TZID=Asia/Shanghai:20171022T160000
DTEND;TZID=Asia/Shanghai:20171022T180000
DTSTAMP:20260419T213122
CREATED:20171016T013547Z
LAST-MODIFIED:20171016T015656Z
UID:3298-1508688000-1508695200@bjtown.net
SUMMARY:岡田央のウクレレライブ＠万火酒場
DESCRIPTION:Hiroshi　Okada（岡田央）　Profile\n2005年、マウイ島にて行なわれたハワイアンファル セットコンテスト『Richard Hoʻopiʻi Leo Kiʻekiʻe Contest』にて 日本人初のハワイ語賞と優勝の同時受賞を果たす。 2006年には、ハワイにてCDをリリース。日本はもちろん、ハワイやアメリカ本土での大きなフラの大会やショーなどでも演奏活動を行う。 2007年には、ハワイのグラミー賞とも言われている 『Nā Hōkū Hanohano Awards』において、日本人初のファイナリストとなる。 演奏活動は日本国内にとどまらず世界各国にひろがる。 日本中心にハワイやアメリカ本土、アジアの国々など海外でもウクレレおよび歌のクラスを持ち、指導にあたり、ハワイアンミュージックを通して ハワイの素晴らしさを伝えている。\n\n別日程でウクレレワークショップも開催しています。興味のある方はお問い合わせください。
URL:https://bjtown.net/event/%e5%b2%a1%e7%94%b0%e5%a4%ae%e3%81%ae%e3%82%a6%e3%82%af%e3%83%ac%e3%83%ac%e3%83%a9%e3%82%a4%e3%83%96%ef%bc%a0%e4%b8%87%e7%81%ab%e9%85%92%e5%a0%b4/
LOCATION:万火 酒場
CATEGORIES:ライブ
ORGANIZER;CN="%E3%82%A6%E3%82%AF%E3%83%AC%E3%83%AC%E3%83%81%E3%83%BC%E3%83%A0%E2%98%86%E5%8C%97%E4%BA%AC%E3%82%A2%E3%83%AD%E3%83%8F%E3%83%AF%E3%82%A4%E3%82%A2%E3%83%B3%E3%82%BA":MAILTO:bjalohawaiians@yahoo.co.jp
END:VEVENT
BEGIN:VEVENT
DTSTART;TZID=Asia/Shanghai:20170907T190000
DTEND;TZID=Asia/Shanghai:20170907T210000
DTSTAMP:20260419T213122
CREATED:20170828T192109Z
LAST-MODIFIED:20170828T192456Z
UID:3061-1504810800-1504818000@bjtown.net
SUMMARY:ファンキー末吉のブルースライブ＠Geba Geba(ゲバゲバ)
DESCRIPTION:和食レストランGeba Geba(ゲバゲバ)がリニューアルオープン \n1日限りのブルースライブ開催！ \n中国でも活躍中のドラマー、ファンキー末吉氏がライブに登場! \n　和食レストラン「Geba Geba」新源里店が9月7日(木)、リニューアルオープンする。これを記念して同日、「ブルースライブ入場料＋ワンドリンク＆焼き鳥3本＆デザート」を特別価格の100元とする。先着80人、要予約。詳細は電話で問い合わせ。 \n　同日20時～、ファンキー末吉氏、ギタリストの西野やすし氏ら3ピースブルースバンドによるスペシャルライブを開催。シークレットゲストとして中国ブルース界の重鎮も登場する。ブルースの本場･京都つながりの料理＆音楽の異色コラボを実現する。 \n　同店は「ゴマ味噌チーズの回鍋肉」(38元)、「自家製焼売」、「豚バラとお野菜のセイロ蒸し」(各48元)など、橋場シェフによる創作メニューとお酒が楽しめる。 \n【お問い合わせ】 \n住所:北京市朝陽区新源里西里東街17号 \nCEL:158-1114-1063(橋場) \n営業時間:17時～23時
URL:https://bjtown.net/event/%e3%83%95%e3%82%a1%e3%83%b3%e3%82%ad%e3%83%bc%e6%9c%ab%e5%90%89%e3%81%ae%e3%83%96%e3%83%ab%e3%83%bc%e3%82%b9%e3%83%a9%e3%82%a4%e3%83%96%ef%bc%a0geba-geba%e3%82%b2%e3%83%90%e3%82%b2%e3%83%90/
LOCATION:Geba Geba\, 新源西里东街17号(渔阳饭店北门对面的新源西里社区进社区50米左手第一家)
CATEGORIES:ライブ
END:VEVENT
BEGIN:VEVENT
DTSTART;TZID=Asia/Shanghai:20170906T210000
DTEND;TZID=Asia/Shanghai:20170906T230000
DTSTAMP:20260419T213122
CREATED:20170827T115820Z
LAST-MODIFIED:20170828T195112Z
UID:3059-1504731600-1504738800@bjtown.net
SUMMARY:ファンキー末吉とブルース仲間達＠黄昏黎明俱乐部 (DDC)
DESCRIPTION:9月6日 DDC ▶ 亚洲鼓王Funky Sueyoshi末吉和他的Blues朋友们：顶级布鲁斯盛宴\n\n \n9月6日鼓王Funky末吉和朋友们再次回到DDC！这次Funky与日本友人“关西blues大王”西野靖 Nishino Yasushi、“华语乐坛首席bass手”张岭、布衣乐队吴宁越等超级乐手将带来一场赤热的音乐会。本场演出特供50元早鸟票50张，先购先得！ \nLine up:Guitar/Vocal: Nishino Yasushi 西野靖Drums: Funky Sueyoshi 末吉Bass/Vocal: 张岭Guest: 吴宁越 \n西野靖 Nishino Yasushi1957年在日本京都出生。15岁的时候在日本美军基地弹吉他以后一直在日本关西地方玩儿Blues，现在是代表关西Blues界的“Blues大王”。 \n15年布衣乐队的主唱吴宁越来日本第一次一起玩儿，录了布衣的一首“问”那首。 \nFunky Sueyoshi 末吉末吉先生，亚洲传奇鼓王，他组建的暴风乐队八十年代红遍日本，歌曲甚至收录在小学课本，九十年代来北京发展，出版个人专辑《亚洲鼓魂》，对中国摇滚影响至深。为零点乐队，布衣乐队专辑制作人，汪峰，许巍，杨坤，韩红，羽泉，叶世荣等音乐人的录音鼓手，《疯狂的石头》、《大电影之数百亿》等电影的音乐制作人。  \n张岭Funky的老朋友，中国布鲁斯大师。 \n吴宁越布衣乐队主唱。代表作品《喝不完的酒》《我爱你亲爱的姑娘》(《疯狂的石头》)《羊肉面》《罗马表》等。 \n\n活动详情 Event Info: \n时间/Time: 2017年9月6日 21:00 门票/Ticket: 50(early bird)/60(presale)/80(door)（票务：阅读原文）地点/Venue: 黄昏黎明俱乐部 (DDC) 地址/ADD: 北京市东城区美术馆后街山老胡同14号 Shanlao Hutong NO. 14\, Dongcheng District 电话/Tel: 010-64078969邮箱/Mail: DuskDawnClub@gmail.com \n\n您也许还感兴趣 You may also be interested: \n9月5日 周二 21:30 来自古巴的拉丁爵士 Edward Latin Jazz Quartet \n9月10日 周日 21:00 日本另类摇滚乐团THE ANDS\, 嘉宾：玩具兵团 \n9月17日 周日 21:00 波兰杰出爵士吉他手 Rafal Sarnecki 五重奏 (PL.\, Jazz) \n9月27日 周三 21:00 东非索马里兰国宝级音乐家Sahra Halgan Trio (World Music)
URL:https://bjtown.net/event/%e4%ba%9a%e6%b4%b2%e9%bc%93%e7%8e%8bfunky-sueyoshi%e6%9c%ab%e5%90%89%e5%92%8c%e4%bb%96%e7%9a%84blues%e6%9c%8b%e5%8f%8b%e4%bb%ac%ef%bc%9a%e9%a1%b6%e7%ba%a7%e5%b8%83%e9%b2%81%e6%96%af%e7%9b%9b%e5%ae%b4/
LOCATION:黄昏黎明俱乐部 (DDC)
CATEGORIES:ライブ
END:VEVENT
BEGIN:VEVENT
DTSTART;TZID=Asia/Shanghai:20170321T210000
DTEND;TZID=Asia/Shanghai:20170321T220000
DTSTAMP:20260419T213122
CREATED:20170303T101908Z
LAST-MODIFIED:20170303T102554Z
UID:2090-1490130000-1490133600@bjtown.net
SUMMARY:亚洲传奇鼓王Funky Sueyoshi和他的朋友们＠黄昏黎明俱乐部 (DDC)
DESCRIPTION:3月21日 DDC ▶ 亚洲传奇鼓王Funky Sueyoshi和他的朋友们 (JP\, Funk/Rock) \n \n时间/Time: 2017年3月21日 21:00  \n门票/Ticket: 40(presale)/50(door) 地点/Venue: 黄昏黎明俱乐部 (DDC)  地址/ADD: 北京市东城区美术馆后街山老胡同14号  Shanlao Hutong NO. 14\, Dongcheng District  电话/Tel: 010-64078969  邮箱/Mail: DuskDawnClub@gmail.com  \nhttps://v.qq.com/x/page/p032286im3w.html \n阵容 line-up:  \ndrums: Funky Sueyoshi 末吉  keyboard: 张张  bass: 有希子  guitar/vocal: 吴宁越  guest: …   \nFunky末吉 Funky Sueyoshi  \n末吉先生，亚洲传奇鼓王，他组建的暴风乐队八十年代红遍日本，歌曲甚至收录在小学课本，九十年代来北京发展，出版个人专辑《亚洲鼓魂》，对中国摇滚影响至深，为零点乐队，布衣乐队专辑制作人，汪峰，许巍，杨坤，韩红，羽泉，叶世荣等音乐人的录音鼓手，《疯狂的石头》、《大电影之数百亿》等电影的音乐制作人。   \n 张张  \n超级键盘手，化现场灵魂人物，负责编曲与现场键盘。5岁开始学习钢琴，现为国内公认顶级键盘演奏家，以开放多元的表演风格著称。  \n   涉谷有希子  \n日本超级女贝斯手，现在中国发展，孙楠，黄绮珊的贝斯手，她从爵士到金属各种风格都能掌握的全面贝斯手，更有贝司键盘一起弹奏的烧脑绝技。  \n   吴宁越  \n布衣乐队主唱。代表作品《喝不完的酒》《我爱你亲爱的姑娘》(《疯狂的石头》)《羊肉面》《罗马表》等。 \n  \n 
URL:https://bjtown.net/event/%e4%ba%9a%e6%b4%b2%e4%bc%a0%e5%a5%87%e9%bc%93%e7%8e%8bfunky-sueyoshi%e5%92%8c%e4%bb%96%e7%9a%84%e6%9c%8b%e5%8f%8b%e4%bb%ac%ef%bc%a0%e9%bb%84%e6%98%8f%e9%bb%8e%e6%98%8e%e4%bf%b1%e4%b9%90%e9%83%a8-ddc/
LOCATION:黄昏黎明俱乐部
CATEGORIES:ライブ
END:VEVENT
BEGIN:VEVENT
DTSTART;TZID=Asia/Shanghai:20161216T190000
DTEND;TZID=Asia/Shanghai:20161216T203000
DTSTAMP:20260419T213122
CREATED:20161208T074908Z
LAST-MODIFIED:20161213T085331Z
UID:1659-1481914800-1481920200@bjtown.net
SUMMARY:北京泡盛祭り〜琉球民謡〜大城 美佐子
DESCRIPTION:■泡盛节开始啦　　12月5日（周一）〜25日（周日） \n《琉球民谣・现场舞蹈表演情报》 \n③12月16日（星期五）　19:00～20:30　　大城 美佐子\n  地址：Dusk Dawn Club (黄昏黎明俱乐部)  北京市东城区美术馆路后街山老胡同14号\n   微博：@黄昏黎明DDC @69张锦灿  电话：010-64078969\, 18611730692 \n※大城美佐子 人物简介————————————————————————————————————–\n演艺生活59年的冲绳民谣界名家。大阪的琉球古典音乐世家出生1962年以处女作「片思い」出道。后又以「絹糸の声」博得人气。80岁高龄的她依然精力充沛地活跃于国内外各种舞台，也拥有多张CD专辑，参与影视作品，还在那霸运营着自己的现场音乐俱乐部「島思い」。 大城美佐子的传奇还在继续……\n——————————————————————————————————————————————— \n「参加店铺情报」\n○日本料理　石川 6593-2797\n　朝阳区关东店北街核桃园30号孚兴写字楼A座101室 \n○日本料理　京樱　21世紀店6468-3311转3154　13264219800\n　朝阳区亮马桥40号 北京二十一世纪饭店1F \n    ○割烹　藏善 5867-0281\n    　朝阳区朝阳公园路1号 好运街 \n    ○居酒屋　子豚屋 6461-2798\n    　朝阳区新源西里东街9号楼 渔阳饭店北门 \n    ○居酒屋　すずめ6466-0204\n    　朝阳区新源里小区6号楼1楼 \n    ○居酒屋バール　TAVECELLO  6507-1881\n    　朝阳区麦子店78号 华康宾馆2F \n○居酒屋　屋根裏 130-5129-5804\n    　朝阳区麦子店西街39号 五轮馆（三全公寓対面）\n　　\n　　○日本料理　月山　　TEL6460-8094\n     　　朝陽区三源里北小街８号　 \n※北京冲绳泡盛节〜　\n在北京市内的上述店铺中举办。泡盛节举办期间，将会有热卖泡盛特色酒瓶、玻璃杯；设置冲绳特色单间；提供泡盛鸡尾酒；热卖Orion啤酒等活动。各店铺将会根据实际情况推出不同的活动搭配，可尽情享受泡盛美味玩转冲绳。\n※	各店铺经营的品种和服务内容不同，请注意。 \n※协办\n冲绳县产业振兴公社北京代表处     冲绳县观光局\n冲绳县酒造组合   北京日本调理师会\n绿洲大地（北京）投资咨询有限公司   北京市明日香商贸有限公司 \n冲绳民谣代表人物大城美佐子北京音乐会 \n大城美佐子是冲绳民谣的代表人物，在60年代初成名，精于三线。\n她的演唱被形容为“丝绸般的声音”，有可能会在明年从艺60年之际宣布退隐。\n此次受冲绳县北京事务所和Lens的邀请，大城美佐子将于12月16日晚上在北京举办音乐会。\n\n以下转自「Lens杂志」（微信号：  Lensmagazine）\n \n \n大城美佐子音乐会\n时间： 2016年12月16日 19:00-20:30\n地点: 东城区美术馆后街山老胡同14号黄昏黎明俱乐部（DDC）
URL:https://bjtown.net/event/%e5%8c%97%e4%ba%ac%e6%b3%a1%e7%9b%9b%e7%a5%ad%e3%82%8a%e3%80%9c%e7%90%89%e7%90%83%e6%b0%91%e8%ac%a1%e3%80%9c%e5%a4%a7%e5%9f%8e-%e7%be%8e%e4%bd%90%e5%ad%90-2/
LOCATION:Dusk Dawn Club (黄昏黎明俱乐部)
CATEGORIES:ライブ
END:VEVENT
BEGIN:VEVENT
DTSTART;TZID=Asia/Shanghai:20161204T193000
DTEND;TZID=Asia/Shanghai:20161204T210000
DTSTAMP:20260419T213122
CREATED:20161123T223322Z
LAST-MODIFIED:20161123T223322Z
UID:1568-1480879800-1480885200@bjtown.net
SUMMARY:藤田麻衣子十周年巡演海外专场
DESCRIPTION:藤田麻衣子「10周年記念」ワールドライブ\n12月4日 19:30開始 \n藤田麻衣子十周年巡演海外专场\n会場：糖果TANGO\n住所：東城区和平西街79号\n＜チケット情報＞\n価格：180（前売）・280・580元\n・大麦票務\n電話：400-610-3721\npiao.damai.cn/109112.html\n购票有礼\n　　280赠送明信片（现场领取）\n　　580赠送签名明信片（现场领取），演出结束后群体击掌合影\n演出介绍\n　　她，是一名歌手以及独立制作人\n　　她，是《绯色的欠片》PlayStation系列游戏的专用歌手\n　　她，拥有能治愈心灵的天籁之声\n　　她，发行的专辑多次进入日本ORICON公信榜的前3名\n　　她，是藤田麻衣子\n\n　　神秘歌姬，治愈之声\n　　藤田麻衣子是出身于日本爱知县名古屋市绿区的一名创作型歌手，她的身材娇小，声音却充满爆发力，清灵而通透。也因此她受到了广大上班族阶层的喜欢，她的歌声被誉为”治愈之声”。作为一名实力派歌手，藤田麻衣子同样有着爆表的颜值，出道至今已举行高达半百场场次的演唱会，其发行的首支单曲《恋に落ちて》就被选为PlayStation游戏《绯色的欠片》的片头曲，随后发行的专辑更是多次占据日本ORICON公信榜的榜单位置。近年来，举行了多次海外演出，斩获了无数海外粉丝的芳心，获得了广大海外歌迷的大力支持。这个秋天，她将延续”海外治愈”的奇迹演出，带给大家更多由她自创自唱的歌曲。\n　　十年璀璨星路，一路过关斩将\n　　2006年出道的藤田麻衣子，今年已跨入到了出道的第十个年头。10年来，藤田麻衣子经历了起起伏伏，有过辉煌的时刻，也有过黑暗的阶段。最早从名古屋出来东京时，藤田麻衣子一边做牙医助手一边在街头进行音乐活动，成名对于她来说甚至是一种奢想。凭借自己的才华成名之后，藤田麻衣子在群星闪耀的日本歌坛，能够一直坚持着每年创作歌曲，保持着超高的人气，这本来就是一个奇迹。此次的演出，作为藤田麻衣子出道10周年纪念，藤田麻衣子将以最原始、最真实的面貌，为大家带来精彩绝伦的演出。\n　　2006年9月，当时在日本歌坛毫不起眼的藤田麻衣子发行了第一张自作自唱的单曲。她以其独特而富有通透力的声音与极具治愈力的歌曲，轰动了整个日本歌谣界，随后该曲被选为PlayStation游戏《绯色的欠片》的片头曲，开启了她的歌唱之路。\n　　2007年7月，藤田麻衣子发行首张专辑《会いたい》，这张专辑连续3个月在日本ORICON公信榜第1位。\n　　2010年1月，发行第三张专辑《さわって》，发行后在日本ORICON公信榜第1名；同年10月，发行迷你专辑《二度目の恋》\n　　2011年6月1日，发行第四张专辑《もう一度》，在日本ORICON公信榜第2名.。\n　　2015年12月份发行新专辑《恋爱小说》，该专辑以情歌为主，通过多首单曲为歌迷们诉说一个个恋爱的小故事，打动了众多歌迷粉丝。
URL:https://bjtown.net/event/%e8%97%a4%e7%94%b0%e9%ba%bb%e8%a1%a3%e5%ad%90%e5%8d%81%e5%91%a8%e5%b9%b4%e5%b7%a1%e6%bc%94%e6%b5%b7%e5%a4%96%e4%b8%93%e5%9c%ba/
LOCATION:糖果TANGO
CATEGORIES:ライブ
END:VEVENT
BEGIN:VEVENT
DTSTART;TZID=Asia/Shanghai:20161125T193000
DTEND;TZID=Asia/Shanghai:20161125T210000
DTSTAMP:20260419T213122
CREATED:20161124T043603Z
LAST-MODIFIED:20161124T043603Z
UID:1607-1480102200-1480107600@bjtown.net
SUMMARY:2016北京国际流行音乐周系列演唱会 麦田守望者乐队&爽子专场
DESCRIPTION:11月25日(周五)１９：３０開始\n麦田守望者乐队、爽子专场演出\nチケット価格\n１８０・２８０・４８０・６８０・８８０\n・大麦票務\n電話：400-610-3721\npiao.damai.cn/109112.html \n北京国际流行音乐周介绍：\n　　2016年第二届北京国际流行音乐周系列演唱会阵容：\n　　11月25日(周五)：麦田守望者乐队、爽子专场演出\n　　11月26日(周六)：阿肆、金玟岐专场演出\n　　11月27日(周日)：岩井俊二专场演出 \n　　北京国际流行音乐周系列演唱会将于11月25-27日连续三日在北京展览馆剧场上演，近日已在各大购票平台开票，邀您身临其境体会超级震撼的视听盛宴！本次剧场音乐会共分为红色、绿色、蓝色三个单元，每个单元都会按照主题进行独具特色的表演。\n\n25日的红色单元以澎湃豪情为主题，邀请到中国知名摇滚乐队和以嘻哈为的代表-麦田守望者乐队和歌手爽子与瓷乐队。\n麦田守望者乐队\n\n麦田守望者乐队\n　　麦田守望者是北京新一代摇滚群体中具有独特风格的乐队。乐队成员普遍受英国音乐影响，因此其音乐具有英式摇滚的特征，特别是继承了七十年代中期以来的punk/NewWave音乐的传统，并与同期在英国新兴的Britpop音乐有很优美的旋律，作品短而精巧，不过渲染吉它solo，要求各样乐器和人声在同等重要的地位上自主而均衡地发挥。音乐的多样化使”麦田”的作品具有很强的可听性。从180余拍的HardCore，到低迷回旋的HewWave；从激越的老式Punk，到幽婉、抒情的Ballad，”麦田守望者”从音乐展现出一个朴素、含蓄的英式音乐元素为背景的，自由而轻松地激扬北京新一代年轻人的思想情感的音乐空间。\n　　代表作：《既然我们是兄弟》、《在路上》、《一意孤行》\n爽子\n\n爽子\n　　从2010年8月27爽子登上工人体育场”怒放摇滚演唱会”，再到新单曲《再见》首发演出创造京城livehouse现场票房冠军，后又登上保利剧院参加”降噪”不插电系列演出上演国内第一场也是唯一一场hiphop不插电演唱会，直至今日全国各地的音乐节，大小场馆，这种音乐形式在经由爽子这样的本土创新和改造后，已赢得大批拥护者。\n　　代表作：《挂念》、《自由的飞》、《在北京》
URL:https://bjtown.net/event/2016%e5%8c%97%e4%ba%ac%e5%9b%bd%e9%99%85%e6%b5%81%e8%a1%8c%e9%9f%b3%e4%b9%90%e5%91%a8%e7%b3%bb%e5%88%97%e6%bc%94%e5%94%b1%e4%bc%9a-%e9%ba%a6%e7%94%b0%e5%ae%88%e6%9c%9b%e8%80%85%e4%b9%90%e9%98%9f/
LOCATION:北京展覧館
CATEGORIES:ライブ
END:VEVENT
BEGIN:VEVENT
DTSTART;TZID=Asia/Shanghai:20161124T193000
DTEND;TZID=Asia/Shanghai:20161124T210000
DTSTAMP:20260419T213122
CREATED:20161123T233433Z
LAST-MODIFIED:20161124T000112Z
UID:1582-1480015800-1480021200@bjtown.net
SUMMARY:爵士大乐团感恩节之夜@Blue Note Beijing
DESCRIPTION:11/24-25\n❖  A BNBJO THANKSGIVING ❖\nBlue Note Beijing爵士大乐团感恩节之夜 \n中国最高水平的爵士大乐团邀您共度感恩节之夜。本场演出免票入场，最低消费200元。\n除了单点菜单以外，Blue Note Beijing还提供了专门的感恩节超值套餐，您可以通过我们的官网直接预订。 \n演出曲目 \nDauphin Dance\, Herbie Hancock Arr. Bob Mintzer\nShiny Stockings\, Frank Foster\nBasie Straight Ahead\, Sammie Nestico\nLaura\, Arr. Wayne Bergeron\nSuch Sweet Thunder\, Duke Ellington\nMoanin’\, Art Blakey Arr. Quincy Jones\nLil Darlin’\, Neal Hefti\nStolen Moments\, Oliver Nelson\nIn A Mellow Tone\, Arr. Oliver Nelson\nYa Gotta Try Harder\, Sammie Nestico\, Arr. Quincy Jones\nBlues in Frankie’s Flat\, Frank Foster\nBody and Soul\, George Stone\n \n\nBlue Note Beijing Jazz Orchestra \nSaxophones 萨克斯部\nLead Saxophone – Nathaniel Gao 首席萨克斯：高太行\nAlec Haavik\nXu Peng 徐鹏\nShi Yuji 石喻吉\nKaitlin Thomas \nTrumpets 小号部\nLead Trumpet – J Kyle Gregory 首席小号：J Kyle Gregory\nToby Mak\nNeal Stalnaker\nHe Hao Cheng 何浩诚 \nTrombones 长号部\nLead Trombone – Yang Ming 首席长号：杨明\nTerry Hsieh\nMatt Roberts 饶猛志\nTerrilynn Handy 翰琳 \nRhythm Section 节奏组\nPiano – Moreno Donadel 钢琴：莫雷诺\nBass – Zhang Ke 贝斯：张柯\nDrums – Anthony Vanacore 鼓：Anthony Vanacore \n领导 \nTerry Hsieh\nTerry Hsieh是来自北卡罗来纳州达勒姆的作曲、编曲及长号手，现工作生活于北京。 Hsieh是一个很受欢迎的录音室音乐家、乐队领袖及编曲。他2012年毕业于奥柏林音乐学院，师从Robin Eubanks\, Gary Bartz\, Paul Samuels\, Dan Wall\, Billy Hart和Marcus Belgrave。2014年，Hsieh和他的乐队The Terry Hsieh Collective以及Eubanks & SF Jazz cohort Miguel Zenon发行了首张专辑，名为“多重性”。Hsieh使用定制的Best American Craftsmen长号以及Denis Wick的笛头。\n \n萨克斯组 \n高太行 \n高太行，2006年以来活跃在北京爵士音乐界的的萨克斯演奏家和作曲家。高太行于2006年获得美国北艾奥瓦大学音乐表演学士学位\,2011年获得纽约城市学院爵士演奏硕士学位。他参与的“红手”五重奏乐队的成员之一和自己的四重奏与三重奏乐队，都是北京爵士的重要乐队。他还积极参与其他风格与流派的音乐活动，包括“Three Sergeants Syndrome”、“北京城市大乐队”、Afrokoko Roots和窦唯 “不一定” 等。多年来他参与了“九门音乐节”、“迷笛爵士节”、”海龟岛国际音乐节”以及北京\, 上海\, 广州和成都等多地的演出活动。\n\nAlec Haavik \nAlec Haavik是长居上海的美国萨克斯演奏家/作曲家。5岁开始学习大提琴、长号及各式乐器的Alec，年少时期已开始展现其过人的音乐天赋及才华，他在高中时期就与当代爵士大师Branford Marsalis同台演出，此后毕业于美国曼哈顿音乐学院的爵士表演硕士学位，就学期间曾跟随Dick Oatts及Mark Turner研读爵士表演，并参与了杰出校友Jane Monheit的录音。移居上海后他很快成为上海爵士的萨克斯领军人物。他是爵士上海的核心音乐家，著名歌手赵可和顺子的音乐伙伴，他现身国内的各种爵士音乐节及音乐节目，合作的乐手从爵士天后Dee Dee Bridgewater、摇滚爵士吉他天王Mike Stern到萨克斯大师Antonio Hart。\n\n石喻吉 \n石喻吉，爵士萨克斯演奏家。 2004年师从萨克斯管教育家、演奏家陆廷荃先生。 2009年开始参加北京九门国际爵士音乐节，迷笛音乐节等，并参与华语流行歌手录音和演唱会活动。2016年曾向美国爵士大师Antonio Hart学习。参与Los Amigos乐队、百味香乐队、圣旨到大乐队，常驻北京东岸爵士酒吧，与贝贝、高太行、张柯、王晨淮、小豆，徐之曈、谢燕辉等合作演出。\n\n徐鹏 \n徐鹏，毕业于北京现代音乐研修学院，大学期间主修爵士萨克斯演奏，师从高太行，毕业后一直从事音乐演奏、音乐表演和教学。小番茄爵士乐队发起人，并组建徐鹏爵士四重奏、三重奏，与夏佳、张柯、大淮、小豆、贝贝、刘玥等国内多位一线音乐家有合作经历。\n\nKaitlin Thomas \nKaitlin Thomas成长于美国内布拉斯加州奥马哈市，毕业于内布拉斯加大学的萨克斯演奏专业。2014年移居北京，以其精湛的低音萨克斯演奏活跃于北京的舞台。\n\n小号组 \nJ Kyle Gregory \nJ Kyle Gregory毕业于伯克利音乐学院以及印第安纳大学音乐表演与教育专业，1995年在北科罗拉多大学获得博士学位。1991年他在匈牙利获得过Fulbright Grant奖，近25年，Kyle在美国、意大利与中国的大学和音乐学院进行爵士教育，作为一名爵士音乐演奏家和教育家，在20多个国家进行演出与授课。他与国际众多知名的爵士音乐演奏家有过合作，包括Paul Motian\, Bob Mintzer\, J.J. Johnson\, Dianne Reeves\, Liza Minelli\, The Temptations\, The Chicago Jazz Ensemble以及The Mingus Dynasty。\n\nToby Mak \n来自澳大利亚的杰出小号演奏家/作曲/编曲家/音乐制作人Toby Mak以其极富情感、深邃优雅并兼具爆发力的精湛小号演奏技艺闻名于当今中国的爵士乐界。Toby十岁开始接触小号\,师从美国著名爵士小号演奏家家Gil Askey，毕业于极富艺术声望–被誉为培养众多澳大利亚本土爵士音乐家摇篮的“墨尔本艺术学院”即席创作表演系。毕业后，Toby在澳大利亚爵士乐界展露头角\,陆续受邀与澳大利亚众多标志性爵士乐队及爵士音乐人合作，2000年Newmarket唱片公司发行了Toby的首张爵士专辑《Joyfull》。2005年Toby移居上海，陆续受邀为超过30张不同音乐风格的专辑录制小号，他经常受邀与众多国际顶尖音乐家同台演出\,包括格莱美奖得主Dee Dee Bridgewater\, Chris Potter\, 荷兰爵士天后Laura Fygi\, 美国知名爵士钢琴家Richard Sussman\, 华人顶尖爵士吉他演奏家Lawrence Ku\, 中国著名爵士歌手赵可、陈胤希\, 以及华语流行乐坛的方大同、李荣浩、顺子、袁娅维、Eugene Pao等。\n\nNeal Stalnaker \nNeal Stalnaker是常住东京的美国爵士小号手，他曾带着自己的四重奏和三重奏参加过蒙特勒爵士音乐节。1998年移居东京，在大学教授小号演奏并与日本爵士音乐家有诸多合作，在四十多个城市演出过。他的作品以沉静的美学著称，2013年以来已在Tower Records发行三张小号/钢琴的二重奏原创专辑。\n\n何浩诚 \n何浩诚，毕业于海南师范大学以及毕业于北京现代音乐学院，先后跟随中国爵士小号的领军人物李晓川以及美国爵士小号手J Kyle学习小号。现任CMA爵士大乐队首席小号手，北京森霖爵士大乐队及臧天朔乐队的小号手。\n\n长号组 \n杨明 \n杨明\, 中国青年一代最具实力和代表性的现代音乐作曲家\,爵士乐作曲家和爵士长号演奏家。毕业于荷兰皇家音乐学院，是爵士长号演奏、作曲、世界音乐教育三学位获得者，师从国际著名音乐家Conrad Herwig\, Robin Eubanks\, Steve Davis\, Don Braden\, Brain Lynch\, Dena DeRose\, Mark Gross\, Ralph Peterson\, David Berkman等，并曾与上述大师在荷兰、欧洲巡回演出，多次参加荷兰北海爵士节、意大利佩鲁贾爵士节等世界著名爵士节。2006-2008年就读于纽约曼哈顿音乐学院，回国后任教于北京现代音乐学院爵士系，组建了Eastern Quartet、Salty Candy、咸糖五重奏、People’s Republic of Clave、Los Amigos等乐队。\n\nMatt Roberts \n美国爵士长号手饶猛志大学时受Sun Ra影响开始演奏爵士。1987年移居北京工作生活，是北京乃至中国最早一批演奏并传播爵士乐的外国友人，并一直留在中国见证了中国爵士乐的发展。饶孟志参与过的乐队包括：《ALAS》（1991年）、《左手乐队》（1994年）、《五个小伙子在火车上》（上海，1995年）、《节奏之犬》（1996年）、《放克小狗》（1997年）、《BJ放克》（1998年）、《天窗》（2002年）、《刘元五重奏》（2001-2006年），以及法国钢琴手Christophe Lier率领的《新葡萄糖八重奏》（2004-2007年）。 他还是有十几年历史、至今仍然活跃的北京爵士乐队阿Q爵士乐团的创始人之一。﻿\n\n翰琳 \n翰琳（Terrilynn Handy），一位嫁到中国来的美国长号手。9岁就拿起父亲的长号，高中时参加爵士大乐队在夏威夷国际爵士音乐节演出。大学时就读于美国西北大学音乐学院，主修低音长号演奏，并在有”小芝加哥交响乐团”的Civic交响乐团立有一席之位。此后赴英国皇家音乐学院（伦敦校区）研修硕士，曾作为James Taylor四重奏一员，并与Denmark Street爵士大乐队在英国最著名的爵士酒吧Ronnie Scott’s演出。\n\n钢琴  \nMoreno Donadel \n莫瑞诺·多纳德（Moreno Donadel），意大利古典、爵士钢琴演奏家、作曲家、编曲人、教育家。自幼接受正统的学院音乐教育，曾从师如Christine Meyr\, Fred Hersch\, David Kikoski\, Barry Harris\, Roberta Piket\, Ted Rosenthal\, Jeb Patton\,等多位一流国际音乐家。他与世界级爵士音乐家如Lee Konitz、Rufus Reid、Mark Murphy、Bob Mover\, Antonio Hart等合作过。他还与中国的著名音乐人如郎朗、崔健、张惠妹有过合作。Moreno的演出风格横跨了古典、爵士、拉丁、流行等多个领域。在多年的音乐生涯中，Moreno屡获多项国际国内音乐大奖如利卡纳提音乐奖、佩斯卡拉市音乐奖等。2013年参与专辑《Wanderlust》录制（编曲、演奏、录音），荣获AWIT 格莱美3项大奖以及6项提名。2015年与著名音乐人刘元为崔健的电影《蓝色骨头》制作音乐荣获汉密尔顿幕后英雄最佳原创音乐奖。\n\n贝斯  \n张柯 \n张柯，Double Bass和Electric Bass 手。 张柯从小在一个音乐团体的大院中长大，学习小提琴。毕业于西安美术学院，但音乐对于张柯始终是生活的重要部分，接触爵士乐后张柯自然地很快掌握了爵士乐的即兴理论， 他挑选择演奏的是现代音乐中节奏动感的灵魂乐器——贝斯。在上海学习演奏期间，他很快在上海的爵士圈成为当地乐手中经常被邀请合作的贝斯手之一。2009年张柯移居北京， 开始了和国内众多顶尖乐手的合作，他驾驭Double Bass的能力深得同行们的赞誉，并被邀请为萨克斯手Antonio Hart中国巡演北京站的专用贝斯手。\n\n鼓  \nAnthony Vanacore \n安东尼 (Anthony Vanacore) 出生于美国，2007年毕业于美国新泽西蒙特克莱尔州立大学(Montclair State University )音乐学院获专业表演学士学位；2010年毕业于纽约市皇后大学(Queens College )并获得爵士乐表演专业硕士学位；他主要演奏的乐器分别是架子鼓，打击乐器以及钢琴。曾师从多名爵士鼓大师，包括Billy Hart (著名爵士音乐家Miles Davis 的鼓手)和Gene Jackson (钢琴大师Herbie Hancock 的鼓手)。他是沙滨镲片的代言人。\n \n感恩节是美国一个重要的传统节日。Blue Note Beijing爵士大乐团将为观众带来欢欣愉快与传统的重要爵士乐以庆祝这个节日。演出节目单包括了Bob Mintzer\, Count Basie\, Thad Jones\, Sammie Nestico\, Oliver Nelson\, Quincy Jones\, Neal Hefti\, Herbie Hancock 及 Duke Ellington等爵士大师的作品。Blue Note Beijing 邀请您与您的家人及朋友，一同加入这个优雅的夜晚，藉着音乐及美食美酒，用”Blue Note”的方式，共度感恩节。 \nGiving thanks is an important American holiday tradition. The Blue Note Beijing Jazz Orchestra brings the music of cheer\, celebration and\, most important\, tradition\, to the bandstand at 23 Qianmen. With a program compiled from the genius of Bob Mintzer\, Count Basie\,Thad Jones\, Sammie Nestico\, Oliver Nelson\, Quincy Jones\, Neal Hefti\, Herbie Hancock and Duke Ellington\, the Blue Note Beijing invites you for elegant evening among friends\, festive food and cheer. This year enjoy a merry Thanksgiving\,done the Blue Note way.
URL:https://bjtown.net/event/%e7%88%b5%e5%a3%ab%e5%a4%a7%e4%b9%90%e5%9b%a2%e6%84%9f%e6%81%a9%e8%8a%82%e4%b9%8b%e5%a4%9cblue-note-beijing/
LOCATION:Blue Note Beijing
CATEGORIES:ライブ
END:VEVENT
BEGIN:VEVENT
DTSTART;TZID=Asia/Shanghai:20161118T211500
DTEND;TZID=Asia/Shanghai:20161118T230000
DTSTAMP:20260419T213122
CREATED:20161118T065706Z
LAST-MODIFIED:20161118T065706Z
UID:1511-1479503700-1479510000@bjtown.net
SUMMARY:弥藏乐队十五周年記念ライブ
DESCRIPTION:周五 弥藏乐队十五周年，一起来喝“蓝调一派”！ \n嗨！还记得你的十五岁生日吗？\n弥藏乐队是当代中国最具代表性的布鲁斯摇滚乐队。 \n2001年成立于北京，2008年推出首张根源色彩浓郁的EP专辑《Goodbye1968》，引发业界广泛关注和好评。2013年11月发行布鲁斯摇滚大碟《和时光赛跑》，入围华语音乐传媒大奖及华语金曲奖2014年度“最佳蓝调艺人”奖项。\n \n嗨！ \n好久不见， \n11月18日，我们在乐空间订好了场子， \n来喝瓶啤酒，我们用蓝调一起聊聊天！\n主题：“弥藏·和时光赛跑”暨弥藏乐队成立十五周年纪念演唱会 \n时间：2016年11月18日晚21：15 \n地点：乐空间 \n门票：预售60 现场80 （门票含弥藏定制啤酒一瓶！） \n嘉宾：杭天、 有吉須美人SumitoAriyo Ariyoshi  \n地址：北新桥板桥南巷7号（人美大厦左一层） \n2001年，弥藏在北京二环路里的一个大杂院里组建。当时我们商量决定把乐队取名“弥藏”，取这个名字并没有想很多特殊的含意，只是觉得这个名字很好听，带有一种强烈的东方色彩，如西方人眼中的我们身处之地一般古老神秘而充满地域特色。如果一定要赋予它某种意义，我想大概有无所不在的意思，它如遍布的宝藏等待你的发现。当时大家做了一个简单的决定，blues。对，这就是我们要做的音乐。\n\n门票含弥藏“蓝调一派”定制啤酒一瓶！ \n2016年，我们十五岁了！ \n我们想说：\n“感谢你们一路支持！一路陪伴！ \n“和时光赛跑”不忘初心， \n我们会一直坚持中国布鲁斯原创！ \n我们的布鲁斯摇滚精神永不变！” \n我们准备好了蓝调、啤酒， \n还有好多想对你们说的话。 \n对了，我们打磨了几首不错的歌打算先给你们听听。 \n魏威的吉他已经按捺不住了。 \n我们也有幸邀请到中国布鲁斯先驱杭天， \n芝加哥布鲁斯大师Sumito Ariyo Ariyoshi（有吉須美人）， \n想听到正宗芝加哥布鲁斯？ \n11月18日，我们在乐空间等你们！\n \n演出嘉宾 \n 杭天\n熟悉布鲁斯的人都不会忘记他。1999年发行国内第一张Blues原创专辑——《我的心是油炸的蚕豆—-MyHeartOfBlues》；2002年发行《冷水浇头》。后赴美生活，2015年底返回国内再次开展音乐创作、演出。\n\n有吉須美人SumitoAriyo Ariyoshi\n芝加哥布鲁斯首席钢琴手，出色的布鲁斯音乐制作人。33年芝加哥布鲁斯生涯，作为芝加哥布鲁斯界不可或缺的中坚力量，参加大小音乐节合计超200场，每年演出超270场，多达500多个城市巡演。独立制作布鲁斯唱片17张，参与录制的唱片不计其数。1989年组建自己的布鲁斯乐队AriyoShuffle。1999年与BillyBranch自主开设的BluesinSchool教育事业合作，在全美开展布鲁斯钢琴教育课。现身兼制作人和BillyBranch & The Sons of Blues的队长。
URL:https://bjtown.net/event/%e5%bc%a5%e8%97%8f%e4%b9%90%e9%98%9f%e5%8d%81%e4%ba%94%e5%91%a8%e5%b9%b4%e8%a8%98%e5%bf%b5%e3%83%a9%e3%82%a4%e3%83%96/
LOCATION:乐空间
CATEGORIES:ライブ
END:VEVENT
BEGIN:VEVENT
DTSTART;TZID=Asia/Shanghai:20160921T210000
DTEND;TZID=Asia/Shanghai:20160921T230000
DTSTAMP:20260419T213122
CREATED:20160919T235155Z
LAST-MODIFIED:20160920T002044Z
UID:1163-1474491600-1474498800@bjtown.net
SUMMARY:Funky Sueyoshi Trio
DESCRIPTION:时间/Time: 2016年9月21日 21:00\n门票/Ticket: 40(presale)/50(door)\n地点/Venue: 黄昏黎明俱乐部 (DDC)\n地址/ADD: 北京市东城区美术馆后街山老胡同14号\nShanlao Hutong NO. 14\, Dongcheng District\n电话/Tel: 010-64078969\n邮箱/Mail: DuskDawnClub@gmail.com  \n亚洲传奇鼓王 联手 日本超级女贝斯手 国内顶级键盘演奏家  \nDrum: Funky末吉 (JP.)\n\nFunky Sueyoshi 末吉先生，亚洲传奇鼓王，他组建的暴风乐队八十年代红遍日本，歌曲甚至收录在小学课本，九十年代来北京发展，出版个人专辑《亚洲鼓魂》，对中国摇滚影响至深，为零点乐队，布衣乐队专辑制作人，汪峰，许巍，杨坤，韩红，羽泉，叶世荣等音乐人的录音鼓手，《疯狂的石头》、《大电影之数百亿》等电影的音乐制作人。  \nBass: 有希子 (JP.)\n\n日本超级女贝斯手，现在中国发展，孙楠，黄绮珊的贝斯手，她从爵士到金属各种风格都能掌握的全面贝斯手，更有贝司键盘一起弹奏的烧脑绝技。  \nKeyboard: 张张 Funky at\n\n超级键盘手，化现场灵魂人物，负责编曲与现场键盘。5岁开始学习钢琴，现为国内公认顶级键盘演奏家，以开放多元的表演风格著称。
URL:https://bjtown.net/event/funky-sueyoshi-trio/
LOCATION:黄昏黎明俱乐部 (DDC)
CATEGORIES:コンサート
END:VEVENT
END:VCALENDAR